BEGIN:VCALENDAR
VERSION:2.0
PRODID:-//jEvents 2.0 for Joomla//EN
CALSCALE:GREGORIAN
METHOD:PUBLISH
BEGIN:VTIMEZONE
TZID:Europe/Sarajevo
BEGIN:STANDARD
DTSTART:20171105T200000
RDATE:20180325T030000
TZOFFSETFROM:+0200
TZOFFSETTO:+0100
TZNAME:Europe/Sarajevo CET
END:STANDARD
BEGIN:STANDARD
DTSTART:20181028T020000
RDATE:20190331T030000
TZOFFSETFROM:+0200
TZOFFSETTO:+0100
TZNAME:Europe/Sarajevo CET
END:STANDARD
BEGIN:STANDARD
DTSTART:20191027T020000
RDATE:20200329T030000
TZOFFSETFROM:+0200
TZOFFSETTO:+0100
TZNAME:Europe/Sarajevo CET
END:STANDARD
BEGIN:STANDARD
DTSTART:20201025T020000
RDATE:20210328T030000
TZOFFSETFROM:+0200
TZOFFSETTO:+0100
TZNAME:Europe/Sarajevo CET
END:STANDARD
BEGIN:DAYLIGHT
DTSTART:20180325T030000
RDATE:20181028T020000
TZOFFSETFROM:+0100
TZOFFSETTO:+0200
TZNAME:Europe/Sarajevo CEST
END:DAYLIGHT
BEGIN:DAYLIGHT
DTSTART:20190331T030000
RDATE:20191027T020000
TZOFFSETFROM:+0100
TZOFFSETTO:+0200
TZNAME:Europe/Sarajevo CEST
END:DAYLIGHT
BEGIN:DAYLIGHT
DTSTART:20200329T030000
RDATE:20201025T020000
TZOFFSETFROM:+0100
TZOFFSETTO:+0200
TZNAME:Europe/Sarajevo CEST
END:DAYLIGHT
END:VTIMEZONE
BEGIN:VEVENT
UID:49fe87954af796aad52bd7be82c8bfed
CATEGORIES:Program
CREATED:20181016T125821
SUMMARY:Z. Sokolović: Lijevo desno glumac
LOCATION:Studio 64
DESCRIPTION:“LIJEVO DESNO GLUMAC”: program kao predstava, predavanje, team building, ra
 dionica. Zijah A. Sokolović, duhovito, flozofski, kabaretski, sa nizom prim
 jera i poređenjem stvarnosti i teatarske umjetnosti, uči gledaoce da shvate
  da su i oni “glumci u svom teatru” i da mogu biti umjetnici u svom životu.
  Ako svoje životne “date okolnosti prve dramske radnje” analiziraju teatars
 ki “objektivno”.\nIgra: Zijah A. Sokolović\nCijena ulaznice je 3,50 KM.\n
CONTACT:Ova adresa el. pošte je zaštićena od spambotova. Omogućite JavaScript da biste je vidjeli.
				document.getElementById('cloak34bbb91b1ba3bf60afbf55a4cc2bc6ee').innerHTML = '';
				var prefix = '&#109;a' + 'i&#108;' + '&#116;o';
				var path = 'hr' + 'ef' + '=';
				var addy34bbb91b1ba3bf60afbf55a4cc2bc6ee = 'm&#97;rk&#101;t&#105;ng' + '&#64;';
				addy34bbb91b1ba3bf60afbf55a4cc2bc6ee = addy34bbb91b1ba3bf60afbf55a4cc2bc6ee + 'npm' + '&#46;' + 'b&#97;';
				var addy_text34bbb91b1ba3bf60afbf55a4cc2bc6ee = 'm&#97;rk&#101;t&#105;ng' + '&#64;' + 'npm' + '&#46;' + 'b&#97;';document.getElementById('cloak34bbb91b1ba3bf60afbf55a4cc2bc6ee').innerHTML += '<a ' + path + '\'' + prefix + ':' + addy34bbb91b1ba3bf60afbf55a4cc2bc6ee + '\'>'+addy_text34bbb91b1ba3bf60afbf55a4cc2bc6ee+'';
		
X-EXTRAINFO:Ulaznice su u prodaji na blagajni NPM-a svakim radnim danom od 9 - 14 sati,
  na dan igranja predstave od 9 do 14 sati te od 18 do 20 sati. Rezervacije:
  na broj 036/550-128, mail: Ova adresa el. pošte je zaštićena od spambotova
 . Omogućite JavaScript da biste je vidjeli.
				document.getElementById('cl
 oakf4fc44d35af3494b39e3d8d36d78439e').innerHTML = '';
				var prefix = '&#1
 09;a' + 'i&#108;' + '&#116;o';
				var path = 'hr' + 'ef' + '=';
				var ad
 dyf4fc44d35af3494b39e3d8d36d78439e = 'm&#97;rk&#101;t&#105;ng' + '&#64;';
	
 			addyf4fc44d35af3494b39e3d8d36d78439e = addyf4fc44d35af3494b39e3d8d36d784
 39e + 'npm' + '&#46;' + 'b&#97;';
				var addy_textf4fc44d35af3494b39e3d8d3
 6d78439e = 'm&#97;rk&#101;t&#105;ng' + '&#64;' + 'npm' + '&#46;' + 'b&#97;'
 ;document.getElementById('cloakf4fc44d35af3494b39e3d8d36d78439e').innerHTML
  += '<a ' + path + '\'' + prefix + ':' + addyf4fc44d35af3494b39e3d8d36d7843
 9e + '\'>'+addy_textf4fc44d35af3494b39e3d8d36d78439e+'';
		, porukom u inbo
 x na Facebook stranici Narodnog pozorišta Mostar.
X-COLOR:#f00030
DTSTAMP:20260420T133628Z
DTSTART;TZID=Europe/Sarajevo:20181106T200000
DTEND;TZID=Europe/Sarajevo:20181106T210000
SEQUENCE:0
TRANSP:OPAQUE
END:VEVENT
END:VCALENDAR