BEGIN:VCALENDAR
VERSION:2.0
PRODID:-//jEvents 2.0 for Joomla//EN
CALSCALE:GREGORIAN
METHOD:PUBLISH
BEGIN:VTIMEZONE
TZID:Europe/Sarajevo
BEGIN:STANDARD
DTSTART:20171101T200000
RDATE:20180325T030000
TZOFFSETFROM:+0200
TZOFFSETTO:+0100
TZNAME:Europe/Sarajevo CET
END:STANDARD
BEGIN:STANDARD
DTSTART:20181028T020000
RDATE:20190331T030000
TZOFFSETFROM:+0200
TZOFFSETTO:+0100
TZNAME:Europe/Sarajevo CET
END:STANDARD
BEGIN:STANDARD
DTSTART:20191027T020000
RDATE:20200329T030000
TZOFFSETFROM:+0200
TZOFFSETTO:+0100
TZNAME:Europe/Sarajevo CET
END:STANDARD
BEGIN:STANDARD
DTSTART:20201025T020000
RDATE:20210328T030000
TZOFFSETFROM:+0200
TZOFFSETTO:+0100
TZNAME:Europe/Sarajevo CET
END:STANDARD
BEGIN:DAYLIGHT
DTSTART:20180325T030000
RDATE:20181028T020000
TZOFFSETFROM:+0100
TZOFFSETTO:+0200
TZNAME:Europe/Sarajevo CEST
END:DAYLIGHT
BEGIN:DAYLIGHT
DTSTART:20190331T030000
RDATE:20191027T020000
TZOFFSETFROM:+0100
TZOFFSETTO:+0200
TZNAME:Europe/Sarajevo CEST
END:DAYLIGHT
BEGIN:DAYLIGHT
DTSTART:20200329T030000
RDATE:20201025T020000
TZOFFSETFROM:+0100
TZOFFSETTO:+0200
TZNAME:Europe/Sarajevo CEST
END:DAYLIGHT
END:VTIMEZONE
BEGIN:VEVENT
UID:daf33c1a6a30138e5678140892f2b3db
CATEGORIES:Program
CREATED:20181016T125216
SUMMARY:Sunce tuđeg neba
LOCATION:Velika scena
DESCRIPTION:<p>Ići ili ostati? – još uvijek je aktuelno pitanje koje prožima vrijeme i 
 prostor, a koje ovaj satirični komad obuhvata kroz različita mjesta, vremen
 a i uspon civilizacije sa krajem XX-og stoljeća. Marinković tumači lik “viš
 enacionalnog i multikulturalnog” junaka koji se kao takav našao u situaciji
  da luta svijetom tražeći svoje nebo, svoj novi spas. U pokušaju da se pril
 agodi novoj sredini, junak ove predstave prolazi kroz mnoštvo situacija i s
 tanja koje idu od euforičnog oduševljenja do neuroze, bijesa. Konstantno up
 oređuje svoj novi dom s onim koji je ostavio iza sebe, donoseći zaključke k
 oji će biti obojeni zdravim humorom. Predstava sa vizuelnim efektima, legen
 darnom muzikom s EX YU prostora, plesom, koja non – stop korespondira sa st
 varnošću. O raseljenom izbjeglici i njegovom mjestu u stvarnosti. Riječ je 
 o tragikomediji koja opisuje duh vremena koji je iza nas, ali nas i dalje p
 ogađa na nivou posljedica prošlosti.</p><p>Autori teksta predstave “Sunce t
 uđeg neba” su Vesna Radusinović, Tarko Veličanski, Nebojša Vuković i Dragan
  Marinković. Koreografiju potpisuje Mirela Botić Jovanović.</p><p><strong>C
 ijena ulaznice je 10 KM.</strong></p>
CONTACT:Ova adresa el. pošte je zaštićena od spambotova. Omogućite JavaScript da biste je vidjeli.
				document.getElementById('cloak51884c18fb8622f99df3346a39ccf506').innerHTML = '';
				var prefix = '&#109;a' + 'i&#108;' + '&#116;o';
				var path = 'hr' + 'ef' + '=';
				var addy51884c18fb8622f99df3346a39ccf506 = 'm&#97;rk&#101;t&#105;ng' + '&#64;';
				addy51884c18fb8622f99df3346a39ccf506 = addy51884c18fb8622f99df3346a39ccf506 + 'npm' + '&#46;' + 'b&#97;';
				var addy_text51884c18fb8622f99df3346a39ccf506 = 'm&#97;rk&#101;t&#105;ng' + '&#64;' + 'npm' + '&#46;' + 'b&#97;';document.getElementById('cloak51884c18fb8622f99df3346a39ccf506').innerHTML += '<a ' + path + '\'' + prefix + ':' + addy51884c18fb8622f99df3346a39ccf506 + '\'>'+addy_text51884c18fb8622f99df3346a39ccf506+'';
		
X-EXTRAINFO:Ulaznice su u prodaji na blagajni NPM-a svakim radnim danom od 9 - 14 sati,
  na dan igranja predstave od 9 do 14 sati te od 18 do 20 sati. Rezervacije:
  na broj 036/550-128, mail: Ova adresa el. pošte je zaštićena od spambotova
 . Omogućite JavaScript da biste je vidjeli.
				document.getElementById('cl
 oak7170e49065fec4e0c6109e59f89109de').innerHTML = '';
				var prefix = '&#1
 09;a' + 'i&#108;' + '&#116;o';
				var path = 'hr' + 'ef' + '=';
				var ad
 dy7170e49065fec4e0c6109e59f89109de = 'm&#97;rk&#101;t&#105;ng' + '&#64;';
	
 			addy7170e49065fec4e0c6109e59f89109de = addy7170e49065fec4e0c6109e59f8910
 9de + 'npm' + '&#46;' + 'b&#97;';
				var addy_text7170e49065fec4e0c6109e59
 f89109de = 'm&#97;rk&#101;t&#105;ng' + '&#64;' + 'npm' + '&#46;' + 'b&#97;'
 ;document.getElementById('cloak7170e49065fec4e0c6109e59f89109de').innerHTML
  += '<a ' + path + '\'' + prefix + ':' + addy7170e49065fec4e0c6109e59f89109
 de + '\'>'+addy_text7170e49065fec4e0c6109e59f89109de+'';
		, porukom u inbo
 x na Facebook stranici Narodnog pozorišta Mostar.
X-COLOR:#f70535
DTSTAMP:20260420T104350Z
DTSTART;TZID=Europe/Sarajevo:20181102T200000
DTEND;TZID=Europe/Sarajevo:20181102T210000
SEQUENCE:0
TRANSP:OPAQUE
END:VEVENT
END:VCALENDAR