BEGIN:VCALENDAR
VERSION:2.0
PRODID:-//jEvents 2.0 for Joomla//EN
CALSCALE:GREGORIAN
METHOD:PUBLISH
BEGIN:VTIMEZONE
TZID:Europe/Sarajevo
BEGIN:STANDARD
DTSTART:20171108T200000
RDATE:20180325T030000
TZOFFSETFROM:+0200
TZOFFSETTO:+0100
TZNAME:Europe/Sarajevo CET
END:STANDARD
BEGIN:STANDARD
DTSTART:20181028T020000
RDATE:20190331T030000
TZOFFSETFROM:+0200
TZOFFSETTO:+0100
TZNAME:Europe/Sarajevo CET
END:STANDARD
BEGIN:STANDARD
DTSTART:20191027T020000
RDATE:20200329T030000
TZOFFSETFROM:+0200
TZOFFSETTO:+0100
TZNAME:Europe/Sarajevo CET
END:STANDARD
BEGIN:STANDARD
DTSTART:20201025T020000
RDATE:20210328T030000
TZOFFSETFROM:+0200
TZOFFSETTO:+0100
TZNAME:Europe/Sarajevo CET
END:STANDARD
BEGIN:DAYLIGHT
DTSTART:20180325T030000
RDATE:20181028T020000
TZOFFSETFROM:+0100
TZOFFSETTO:+0200
TZNAME:Europe/Sarajevo CEST
END:DAYLIGHT
BEGIN:DAYLIGHT
DTSTART:20190331T030000
RDATE:20191027T020000
TZOFFSETFROM:+0100
TZOFFSETTO:+0200
TZNAME:Europe/Sarajevo CEST
END:DAYLIGHT
BEGIN:DAYLIGHT
DTSTART:20200329T030000
RDATE:20201025T020000
TZOFFSETFROM:+0100
TZOFFSETTO:+0200
TZNAME:Europe/Sarajevo CEST
END:DAYLIGHT
END:VTIMEZONE
BEGIN:VEVENT
UID:0e7d27fafcb705d84fb8fbadd7f0f2d6
CATEGORIES:Program
CREATED:20181029T135117
SUMMARY:JAZZLY
LOCATION:Velika scena
DESCRIPTION:<p>„JAZZLY“ - CD prezentacija i koncert - Marko Govorčin - petak, 9. novemb
 ar - 20h</p><p><strong>Kratak opis:</strong></p><p>„Jazzly“ je naziv novog 
 CD-a Marka Govorčina, muzičara, čiji repertoar obuhvata 39 jezika. Govorčin
  pjeva pop, soul, jazz i latin, zatim tradicionalne “world music” i pjesme 
 sa balkana, kao i vlastite kompozicije. Šesir i gitara su njegov zaštitni z
 nak, njegov glas je njegova vizit karta. Svejedno da li nastupa sam ili s p
 rijateljima, uvijek je vjeran svome motu “vrhunskom izvedbom nadahnuti publ
 iku”. Svoj novi CD predstavit će i mostarskoj publici koncertom u Narodnom 
 pozorištu Mostar.</p><p><strong>Gosti: </strong></p><p>Brano Likić, muzičar
  i producent</p><p>Dijana Šoše, vokal Elma Burnić, vokal</p><p>(“FilmMusicO
 rkestar”) Emir Hot, gitara</p><p>(The Guitar Hero London UK)</p><p>Lokacija
 : Velika scena</p><p> </p>
X-EXTRAINFO:Ulaz je besplatan
X-COLOR:#f70535
DTSTAMP:20260420T120343Z
DTSTART;TZID=Europe/Sarajevo:20181109T200000
DTEND;TZID=Europe/Sarajevo:20181109T210000
SEQUENCE:0
TRANSP:OPAQUE
END:VEVENT
END:VCALENDAR