BEGIN:VCALENDAR
VERSION:2.0
PRODID:-//jEvents 2.0 for Joomla//EN
CALSCALE:GREGORIAN
METHOD:PUBLISH
BEGIN:VTIMEZONE
TZID:Europe/Sarajevo
BEGIN:STANDARD
DTSTART:20181028T020000
RDATE:20190331T030000
TZOFFSETFROM:+0200
TZOFFSETTO:+0100
TZNAME:Europe/Sarajevo CET
END:STANDARD
BEGIN:STANDARD
DTSTART:20191027T020000
RDATE:20200329T030000
TZOFFSETFROM:+0200
TZOFFSETTO:+0100
TZNAME:Europe/Sarajevo CET
END:STANDARD
BEGIN:STANDARD
DTSTART:20201025T020000
RDATE:20210328T030000
TZOFFSETFROM:+0200
TZOFFSETTO:+0100
TZNAME:Europe/Sarajevo CET
END:STANDARD
BEGIN:DAYLIGHT
DTSTART:20180418T200000
RDATE:20181028T020000
TZOFFSETFROM:+0100
TZOFFSETTO:+0200
TZNAME:Europe/Sarajevo CEST
END:DAYLIGHT
BEGIN:DAYLIGHT
DTSTART:20190331T030000
RDATE:20191027T020000
TZOFFSETFROM:+0100
TZOFFSETTO:+0200
TZNAME:Europe/Sarajevo CEST
END:DAYLIGHT
BEGIN:DAYLIGHT
DTSTART:20200329T030000
RDATE:20201025T020000
TZOFFSETFROM:+0100
TZOFFSETTO:+0200
TZNAME:Europe/Sarajevo CEST
END:DAYLIGHT
END:VTIMEZONE
BEGIN:VEVENT
UID:595d42452b5ae797be68e71111c9bcde
CATEGORIES:Program
CREATED:20190409T150843
SUMMARY:Ime
LOCATION:Velika scena
DESCRIPTION:Predstava „Ime“ Matthieu Delaporte &amp; Alexandre de La Patellière, u reži
 ji Admira Glamočaka i izvedbi ansambla Pozorišta mladih Sarajevo, sa početk
 om u 20 sati.\nPredstava govori o porodičnoj večeri na kojoj se raspravlja 
 o budućem imenu najmlađeg člana porodice.\n„Ime, dramski tekst i filmski sc
 enarij Matthieu Delaportea i Alexandre de La Patellièrea, je izvrstan predl
 ožak za pozorišnu predstavu. Porodična večera na kojoj se ne pojede ništa, 
 prijateljstva koja se raspadaju, skidanje maski i ogoljena ljudska lica. Og
 oljena, ali ne onakva kakva uistinu jesu. Lica sa grimasom. Grimasa je smij
 ešna, ali i opominje...\nAdaptacijom originalnog teksta, koju je uradio Alm
 ir Imširević, situaciju iz francuskog apartmana prenosimo u sarajevsko nase
 lje, gledajući naše odraze u ogledalu  ili, a tako nam je jednostavnije, gl
 edamo ljude koje prepoznajemo.\nTatjana Šojić, Damir Kustura, Mirza Derviši
 ć, Sanin Milavić i Ajla Cabrera vanrednim glumačkim umijećem igraju jednost
 avnu, angažovanu priču koja se događa danas.\nOvdje!\nGledaoci će se smijat
 i. Ili neće.\nNama je važno samo da budu dio naše priče.“ – zapisao je o pr
 edstavi reditelj, Admir Glamočak.\nU predstavi igraju: Tatjana Šojić, Damir
  Kustura, Sanin Milavić, Mirza Dervišić, Ajla Cabrera\n
CONTACT:Ova adresa el. pošte je zaštićena od spambotova. Omogućite JavaScript da biste je vidjeli.
				document.getElementById('cloakb415675e8e4c1ecab11a849c014489c3').innerHTML = '';
				var prefix = '&#109;a' + 'i&#108;' + '&#116;o';
				var path = 'hr' + 'ef' + '=';
				var addyb415675e8e4c1ecab11a849c014489c3 = 'm&#97;rk&#101;t&#105;ng' + '&#64;';
				addyb415675e8e4c1ecab11a849c014489c3 = addyb415675e8e4c1ecab11a849c014489c3 + 'npm' + '&#46;' + 'b&#97;';
				var addy_textb415675e8e4c1ecab11a849c014489c3 = 'm&#97;rk&#101;t&#105;ng' + '&#64;' + 'npm' + '&#46;' + 'b&#97;';document.getElementById('cloakb415675e8e4c1ecab11a849c014489c3').innerHTML += '<a ' + path + '\'' + prefix + ':' + addyb415675e8e4c1ecab11a849c014489c3 + '\'>'+addy_textb415675e8e4c1ecab11a849c014489c3+'';
		
X-EXTRAINFO:Ulaznice su u prodaji na blagajni NPM-a svakim danom od 9 - 14 sati. Cijena
  ulaznice za sve programe iznosi 10 KM, a dostupni su i paketi ulaznica po 
 cijeni od 50 KM koji podrazumijevaju jednu ulaznicu za sve izvedbe u trajan
 ju Festivala. REZERVACIJE: na broj 036/550-128, mail: Ova adresa el. pošte 
 je zaštićena od spambotova. Omogućite JavaScript da biste je vidjeli.
				d
 ocument.getElementById('cloak4c0ffce962ba181ff624695815454639').innerHTML =
  '';
				var prefix = '&#109;a' + 'i&#108;' + '&#116;o';
				var path = 'hr
 ' + 'ef' + '=';
				var addy4c0ffce962ba181ff624695815454639 = 'm&#97;rk&#1
 01;t&#105;ng' + '&#64;';
				addy4c0ffce962ba181ff624695815454639 = addy4c0
 ffce962ba181ff624695815454639 + 'npm' + '&#46;' + 'b&#97;';
				var addy_te
 xt4c0ffce962ba181ff624695815454639 = 'm&#97;rk&#101;t&#105;ng' + '&#64;' + 
 'npm' + '&#46;' + 'b&#97;';document.getElementById('cloak4c0ffce962ba181ff6
 24695815454639').innerHTML += '<a ' + path + '\'' + prefix + ':' + addy4c0f
 fce962ba181ff624695815454639 + '\'>'+addy_text4c0ffce962ba181ff624695815454
 639+'';
		, ili porukom u inbox.
DTSTAMP:20260420T103627Z
DTSTART;TZID=Europe/Sarajevo:20190419T200000
DTEND;TZID=Europe/Sarajevo:20190419T210000
SEQUENCE:0
TRANSP:OPAQUE
END:VEVENT
END:VCALENDAR