BEGIN:VCALENDAR
VERSION:2.0
PRODID:-//jEvents 2.0 for Joomla//EN
CALSCALE:GREGORIAN
METHOD:PUBLISH
BEGIN:VTIMEZONE
TZID:Europe/Sarajevo
BEGIN:STANDARD
DTSTART:20181124T130000
RDATE:20190331T030000
TZOFFSETFROM:+0200
TZOFFSETTO:+0100
TZNAME:Europe/Sarajevo CET
END:STANDARD
BEGIN:STANDARD
DTSTART:20191027T020000
RDATE:20200329T030000
TZOFFSETFROM:+0200
TZOFFSETTO:+0100
TZNAME:Europe/Sarajevo CET
END:STANDARD
BEGIN:STANDARD
DTSTART:20201025T020000
RDATE:20210328T030000
TZOFFSETFROM:+0200
TZOFFSETTO:+0100
TZNAME:Europe/Sarajevo CET
END:STANDARD
BEGIN:DAYLIGHT
DTSTART:20190331T030000
RDATE:20191027T020000
TZOFFSETFROM:+0100
TZOFFSETTO:+0200
TZNAME:Europe/Sarajevo CEST
END:DAYLIGHT
BEGIN:DAYLIGHT
DTSTART:20200329T030000
RDATE:20201025T020000
TZOFFSETFROM:+0100
TZOFFSETTO:+0200
TZNAME:Europe/Sarajevo CEST
END:DAYLIGHT
END:VTIMEZONE
BEGIN:VEVENT
UID:8955d7d56427a195193874d89bfb7051
CATEGORIES:Program
CREATED:20191123T154437
SUMMARY:Dan državnosti BiH - Svečana akademija
LOCATION:Velika scena
DESCRIPTION:<p>U organizaciji pet institucija kulture: Narodnog pozorišta, Centra za ku
 lturu, Muzeja Hercegovine, Narodne biblioteke i Pozorišta lutaka; u ponedje
 ljak, 25. novembra u Narodnom pozorištu Mostar bit će održana svečana akade
 mija povodom 25. novembra, Dana državnosti Bosne i Hercegovine.</p><p>Prisu
 tnima će se obratiti <strong>Šerif Špago</strong>, predsjedavajući Skupštin
 e Hercegovačko-neretvanskog kantona; Federalna ministrica obrazovanja i nau
 ke dr. <strong>Elvira Dilberović</strong> te poslanik u Predstavničkom domu
  Parlamentarne skupštine Bosne i Hercegovine <strong>Edin Mušić</strong> ko
 ji su i pokrovitelji manifestacije.</p><p>Kao posebnog gosta najavljujemo P
 redsjedavajućeg Vijeća ministara Bosne i Hercegovine, gosp. <strong>Denisa 
 Zvizdića</strong>.</p><p>U umjetničkom dijelu programa publika će imati pri
 liku uživati u nastupu jedne od najboljih interpretatorki sevdalinke mlađe 
 generacije, Alme Subašić, te u izvrsnim nastupima glumca Armina Omerovića.<
 /p><p>Program počinje u 13.00 sati.</p><p>Ranije tog dana, u 11.00 sati bit
  će organizovano odavanje počasti poginulim borcima NOR-a 1941-1945 i polag
 anje cvijeća na Partizanskom spomen-groblju; te od 12.30 sati učenje fatihe
  i odavanje počasti šehidima i poginulim borcima odbrambeno-oslobodilačkog 
 rata 1992-1995, na mostarskim Šehitlucima.</p>
X-COLOR:#f70031
DTSTAMP:20260420T103057Z
DTSTART;TZID=Europe/Sarajevo:20191125T130000
DTEND;TZID=Europe/Sarajevo:20191125T140000
SEQUENCE:0
TRANSP:OPAQUE
END:VEVENT
END:VCALENDAR