BEGIN:VCALENDAR
VERSION:2.0
PRODID:-//jEvents 2.0 for Joomla//EN
CALSCALE:GREGORIAN
METHOD:PUBLISH
BEGIN:VTIMEZONE
TZID:Europe/Sarajevo
END:VTIMEZONE
BEGIN:VEVENT
UID:ccfabf42d4cd69bd7f51a44e0cddc542
CATEGORIES:Program
CREATED:20240703T175538
SUMMARY:Državni lopov 
LOCATION:Velika scena
DESCRIPTION:<p>Ovo je komedija o dva zatvorenika u istoj celiji, jedan sitni lopov a uz
  to ljubavna varalica a drugi "državni lopov" i naravno uz to povlašten čak
  i u zatvoru. Pored njih tu je i zatvorski čuvar koji nema završenu čak ni 
 osnovnu školu a mašta o unapređenju. KIKI, ljubavna varalica, završio je u 
 zatvoru zbog lažnih obećanja ženidbi, naime, on je 17 puta obećao da ce se 
 ženiti sa 17 različitih žena. Bas te žene su mu došle glave jer je zbog jed
 ne od njih završio u zatvoru. Marko, tzv. državni lopov, u zatvoru je završ
 io zato što je pronevjerio neke silne pare, međutim revizijom advokata on ć
 e biti brzo pušten na slobodu jer naravno našla se neka rupa u zakonu. Njih
  dvojica i čuvar Jozo, na vrlo komičan način pokazuju nam sliku društva u k
 ojem živimo. Ovo je prvenstveno predstava koja ima za cilj da publiku nasmi
 je i opusti ali i da ukaže na svakodnevnicu čiji smo sudionici. Veza između
  Kikija i Marka je ta da ih je prevarila ista žena i da su obojica u zatvor
 u zbog te iste žene koju čak i vole i o kojoj sanjaju i jedan drugome priča
 ju sve do trenutka kad spoznaju da govore o istoj ženi. Naravno na kraju "d
 ržavni lopov" bude pušten a KIKI ostaje u zatvoru, kako i sam kaže: još dvi
 je godine ljetovanja o državnom trošku.</p><p>Produkcija: Studio Teatar</p>
 <p>Igraju: Nusmir Muharemović, Irfan Kasumović i Mirza Mušija</p>
CONTACT:Ova adresa el. pošte je zaštićena od spambotova. Omogućite JavaScript da biste je vidjeli.
				document.getElementById('cloak69bba9a41c57e5be84314ffde123ef84').innerHTML = '';
				var prefix = '&#109;a' + 'i&#108;' + '&#116;o';
				var path = 'hr' + 'ef' + '=';
				var addy69bba9a41c57e5be84314ffde123ef84 = 'm&#97;rk&#101;t&#105;ng' + '&#64;';
				addy69bba9a41c57e5be84314ffde123ef84 = addy69bba9a41c57e5be84314ffde123ef84 + 'npm' + '&#46;' + 'b&#97;';
				var addy_text69bba9a41c57e5be84314ffde123ef84 = 'm&#97;rk&#101;t&#105;ng' + '&#64;' + 'npm' + '&#46;' + 'b&#97;';document.getElementById('cloak69bba9a41c57e5be84314ffde123ef84').innerHTML += '<a ' + path + '\'' + prefix + ':' + addy69bba9a41c57e5be84314ffde123ef84 + '\'>'+addy_text69bba9a41c57e5be84314ffde123ef84+'';
		
X-EXTRAINFO:Ulaz besplatan uz obavezno prethodno preuzimanje ulaznica na blagajni NPM-a
DTSTAMP:20260421T012947Z
DTSTART;TZID=Europe/Sarajevo:20240713T200000
DTEND;TZID=Europe/Sarajevo:20240713T210000
SEQUENCE:0
TRANSP:OPAQUE
END:VEVENT
END:VCALENDAR