BEGIN:VCALENDAR
VERSION:2.0
PRODID:-//jEvents 2.0 for Joomla//EN
CALSCALE:GREGORIAN
METHOD:PUBLISH
BEGIN:VTIMEZONE
TZID:Europe/Sarajevo
BEGIN:STANDARD
DTSTART:20151025T020000
RDATE:20160327T030000
TZOFFSETFROM:+0200
TZOFFSETTO:+0100
TZNAME:Europe/Sarajevo CET
END:STANDARD
BEGIN:STANDARD
DTSTART:20161030T020000
RDATE:20170326T030000
TZOFFSETFROM:+0200
TZOFFSETTO:+0100
TZNAME:Europe/Sarajevo CET
END:STANDARD
BEGIN:STANDARD
DTSTART:20171029T020000
RDATE:20180325T030000
TZOFFSETFROM:+0200
TZOFFSETTO:+0100
TZNAME:Europe/Sarajevo CET
END:STANDARD
BEGIN:STANDARD
DTSTART:20181028T020000
RDATE:20190331T030000
TZOFFSETFROM:+0200
TZOFFSETTO:+0100
TZNAME:Europe/Sarajevo CET
END:STANDARD
BEGIN:STANDARD
DTSTART:20191027T020000
RDATE:20200329T030000
TZOFFSETFROM:+0200
TZOFFSETTO:+0100
TZNAME:Europe/Sarajevo CET
END:STANDARD
BEGIN:STANDARD
DTSTART:20201025T020000
RDATE:20210328T030000
TZOFFSETFROM:+0200
TZOFFSETTO:+0100
TZNAME:Europe/Sarajevo CET
END:STANDARD
BEGIN:DAYLIGHT
DTSTART:20150603T200000
RDATE:20151025T020000
TZOFFSETFROM:+0100
TZOFFSETTO:+0200
TZNAME:Europe/Sarajevo CEST
END:DAYLIGHT
BEGIN:DAYLIGHT
DTSTART:20160327T030000
RDATE:20161030T020000
TZOFFSETFROM:+0100
TZOFFSETTO:+0200
TZNAME:Europe/Sarajevo CEST
END:DAYLIGHT
BEGIN:DAYLIGHT
DTSTART:20170326T030000
RDATE:20171029T020000
TZOFFSETFROM:+0100
TZOFFSETTO:+0200
TZNAME:Europe/Sarajevo CEST
END:DAYLIGHT
BEGIN:DAYLIGHT
DTSTART:20180325T030000
RDATE:20181028T020000
TZOFFSETFROM:+0100
TZOFFSETTO:+0200
TZNAME:Europe/Sarajevo CEST
END:DAYLIGHT
BEGIN:DAYLIGHT
DTSTART:20190331T030000
RDATE:20191027T020000
TZOFFSETFROM:+0100
TZOFFSETTO:+0200
TZNAME:Europe/Sarajevo CEST
END:DAYLIGHT
BEGIN:DAYLIGHT
DTSTART:20200329T030000
RDATE:20201025T020000
TZOFFSETFROM:+0100
TZOFFSETTO:+0200
TZNAME:Europe/Sarajevo CEST
END:DAYLIGHT
END:VTIMEZONE
BEGIN:VEVENT
UID:d4a9a5174df1187386ccf194b07184b9
CATEGORIES:Program
CREATED:20160507T215546
SUMMARY:Državni lopov
LOCATION:Velika scena
DESCRIPTION:<p>U petak, 3. juna u 20:00h nas očekuje gostujuća predstava Fadila Hadžića
  „Državni lopov“.</p><p>Režiju ove komedije potpisuju glumci Nusmir Muharem
 ović, Irfan Kasumović te Mirza Mušija. Fadil Hadžić autor je brojnih pozori
 šnih komedija a osnivač je Zagrebačkog kazališta Kerempuh.</p><p>Predstava 
 je u 10 godina postojanja igrala širom Bosne i Hercegovine a nakon Hrvatske
 , Crne Gore, Njemačke i Švedske dolazi u Narodno pozorište Mostar.</p>
CONTACT:Ova adresa el. pošte je zaštićena od spambotova. Omogućite JavaScript da biste je vidjeli.
				document.getElementById('cloake50759f713d6969d06a8549d6e935299').innerHTML = '';
				var prefix = '&#109;a' + 'i&#108;' + '&#116;o';
				var path = 'hr' + 'ef' + '=';
				var addye50759f713d6969d06a8549d6e935299 = 'm&#97;rk&#101;t&#105;ng' + '&#64;';
				addye50759f713d6969d06a8549d6e935299 = addye50759f713d6969d06a8549d6e935299 + 'npm' + '&#46;' + 'b&#97;';
				var addy_texte50759f713d6969d06a8549d6e935299 = 'm&#97;rk&#101;t&#105;ng' + '&#64;' + 'npm' + '&#46;' + 'b&#97;';document.getElementById('cloake50759f713d6969d06a8549d6e935299').innerHTML += '<a ' + path + '\'' + prefix + ':' + addye50759f713d6969d06a8549d6e935299 + '\'>'+addy_texte50759f713d6969d06a8549d6e935299+'';
		
X-COLOR:#ff0000
DTSTAMP:20260420T104321Z
DTSTART;TZID=Europe/Sarajevo:20160603T200000
DTEND;TZID=Europe/Sarajevo:20160603T210000
SEQUENCE:0
TRANSP:OPAQUE
END:VEVENT
END:VCALENDAR