BEGIN:VCALENDAR
VERSION:2.0
PRODID:-//jEvents 2.0 for Joomla//EN
CALSCALE:GREGORIAN
METHOD:PUBLISH
BEGIN:VTIMEZONE
TZID:Europe/Sarajevo
BEGIN:STANDARD
DTSTART:20151025T020000
RDATE:20160327T030000
TZOFFSETFROM:+0200
TZOFFSETTO:+0100
TZNAME:Europe/Sarajevo CET
END:STANDARD
BEGIN:STANDARD
DTSTART:20161030T020000
RDATE:20170326T030000
TZOFFSETFROM:+0200
TZOFFSETTO:+0100
TZNAME:Europe/Sarajevo CET
END:STANDARD
BEGIN:STANDARD
DTSTART:20171029T020000
RDATE:20180325T030000
TZOFFSETFROM:+0200
TZOFFSETTO:+0100
TZNAME:Europe/Sarajevo CET
END:STANDARD
BEGIN:STANDARD
DTSTART:20181028T020000
RDATE:20190331T030000
TZOFFSETFROM:+0200
TZOFFSETTO:+0100
TZNAME:Europe/Sarajevo CET
END:STANDARD
BEGIN:STANDARD
DTSTART:20191027T020000
RDATE:20200329T030000
TZOFFSETFROM:+0200
TZOFFSETTO:+0100
TZNAME:Europe/Sarajevo CET
END:STANDARD
BEGIN:STANDARD
DTSTART:20201025T020000
RDATE:20210328T030000
TZOFFSETFROM:+0200
TZOFFSETTO:+0100
TZNAME:Europe/Sarajevo CET
END:STANDARD
BEGIN:DAYLIGHT
DTSTART:20151008T200000
RDATE:20151025T020000
TZOFFSETFROM:+0100
TZOFFSETTO:+0200
TZNAME:Europe/Sarajevo CEST
END:DAYLIGHT
BEGIN:DAYLIGHT
DTSTART:20160327T030000
RDATE:20161030T020000
TZOFFSETFROM:+0100
TZOFFSETTO:+0200
TZNAME:Europe/Sarajevo CEST
END:DAYLIGHT
BEGIN:DAYLIGHT
DTSTART:20170326T030000
RDATE:20171029T020000
TZOFFSETFROM:+0100
TZOFFSETTO:+0200
TZNAME:Europe/Sarajevo CEST
END:DAYLIGHT
BEGIN:DAYLIGHT
DTSTART:20180325T030000
RDATE:20181028T020000
TZOFFSETFROM:+0100
TZOFFSETTO:+0200
TZNAME:Europe/Sarajevo CEST
END:DAYLIGHT
BEGIN:DAYLIGHT
DTSTART:20190331T030000
RDATE:20191027T020000
TZOFFSETFROM:+0100
TZOFFSETTO:+0200
TZNAME:Europe/Sarajevo CEST
END:DAYLIGHT
BEGIN:DAYLIGHT
DTSTART:20200329T030000
RDATE:20201025T020000
TZOFFSETFROM:+0100
TZOFFSETTO:+0200
TZNAME:Europe/Sarajevo CEST
END:DAYLIGHT
END:VTIMEZONE
BEGIN:VEVENT
UID:b1d8768048bbe38ae3017cefcd7f4ae9
CATEGORIES:Program
CREATED:20160927T213335
SUMMARY:Šta ćemo sad?
LOCATION:Velika scena
DESCRIPTION:<p>Predstava "Šta ćemo sad?" - Branko Đurić / Ahmed Imamović</p>
CONTACT:Ova adresa el. pošte je zaštićena od spambotova. Omogućite JavaScript da biste je vidjeli.
				document.getElementById('cloak6de00f8d20f5ceb383b4eff4937d94c6').innerHTML = '';
				var prefix = '&#109;a' + 'i&#108;' + '&#116;o';
				var path = 'hr' + 'ef' + '=';
				var addy6de00f8d20f5ceb383b4eff4937d94c6 = 'm&#97;rk&#101;t&#105;ng' + '&#64;';
				addy6de00f8d20f5ceb383b4eff4937d94c6 = addy6de00f8d20f5ceb383b4eff4937d94c6 + 'npm' + '&#46;' + 'b&#97;';
				var addy_text6de00f8d20f5ceb383b4eff4937d94c6 = 'm&#97;rk&#101;t&#105;ng' + '&#64;' + 'npm' + '&#46;' + 'b&#97;';document.getElementById('cloak6de00f8d20f5ceb383b4eff4937d94c6').innerHTML += '<a ' + path + '\'' + prefix + ':' + addy6de00f8d20f5ceb383b4eff4937d94c6 + '\'>'+addy_text6de00f8d20f5ceb383b4eff4937d94c6+'';
		
X-EXTRAINFO:7 KM, s popustom za učenike i penzionere 3,50 KM\nUlaznice se mogu kupiti n
 a blagajni Narodnog pozorišta Mostar svakim radnim danom od 9 - 14 sati ili
  rezervisati na telefon 036/550-128. Rezervacija ulaznica se može izvršiti 
 i putem e- maila: Ova adresa el. pošte je zaštićena od spambotova. Omogućit
 e JavaScript da biste je vidjeli.
				document.getElementById('cloak1a62792
 1e71008e57479f8b84d7ff1dc').innerHTML = '';
				var prefix = '&#109;a' + 'i
 &#108;' + '&#116;o';
				var path = 'hr' + 'ef' + '=';
				var addy1a627921
 e71008e57479f8b84d7ff1dc = 'm&#97;rk&#101;t&#105;ng' + '&#64;';
				addy1a6
 27921e71008e57479f8b84d7ff1dc = addy1a627921e71008e57479f8b84d7ff1dc + 'npm
 ' + '&#46;' + 'b&#97;';
				var addy_text1a627921e71008e57479f8b84d7ff1dc =
  'm&#97;rk&#101;t&#105;ng' + '&#64;' + 'npm' + '&#46;' + 'b&#97;';document.
 getElementById('cloak1a627921e71008e57479f8b84d7ff1dc').innerHTML += '<a ' 
 + path + '\'' + prefix + ':' + addy1a627921e71008e57479f8b84d7ff1dc + '\'>'
 +addy_text1a627921e71008e57479f8b84d7ff1dc+'';
		, te putem poruke u inbox 
 na facebook stranici Narodnog pozorišta Mostar.
X-COLOR:#ff0000
DTSTAMP:20260420T104322Z
DTSTART;TZID=Europe/Sarajevo:20161008T200000
DTEND;TZID=Europe/Sarajevo:20161008T210000
SEQUENCE:0
TRANSP:OPAQUE
END:VEVENT
END:VCALENDAR