BEGIN:VCALENDAR
VERSION:2.0
PRODID:-//jEvents 2.0 for Joomla//EN
CALSCALE:GREGORIAN
METHOD:PUBLISH
BEGIN:VTIMEZONE
TZID:Europe/Sarajevo
BEGIN:STANDARD
DTSTART:20161030T020000
RDATE:20170326T030000
TZOFFSETFROM:+0200
TZOFFSETTO:+0100
TZNAME:Europe/Sarajevo CET
END:STANDARD
BEGIN:STANDARD
DTSTART:20171029T020000
RDATE:20180325T030000
TZOFFSETFROM:+0200
TZOFFSETTO:+0100
TZNAME:Europe/Sarajevo CET
END:STANDARD
BEGIN:STANDARD
DTSTART:20181028T020000
RDATE:20190331T030000
TZOFFSETFROM:+0200
TZOFFSETTO:+0100
TZNAME:Europe/Sarajevo CET
END:STANDARD
BEGIN:STANDARD
DTSTART:20191027T020000
RDATE:20200329T030000
TZOFFSETFROM:+0200
TZOFFSETTO:+0100
TZNAME:Europe/Sarajevo CET
END:STANDARD
BEGIN:STANDARD
DTSTART:20201025T020000
RDATE:20210328T030000
TZOFFSETFROM:+0200
TZOFFSETTO:+0100
TZNAME:Europe/Sarajevo CET
END:STANDARD
BEGIN:DAYLIGHT
DTSTART:20160423T200000
RDATE:20161030T020000
TZOFFSETFROM:+0100
TZOFFSETTO:+0200
TZNAME:Europe/Sarajevo CEST
END:DAYLIGHT
BEGIN:DAYLIGHT
DTSTART:20170326T030000
RDATE:20171029T020000
TZOFFSETFROM:+0100
TZOFFSETTO:+0200
TZNAME:Europe/Sarajevo CEST
END:DAYLIGHT
BEGIN:DAYLIGHT
DTSTART:20180325T030000
RDATE:20181028T020000
TZOFFSETFROM:+0100
TZOFFSETTO:+0200
TZNAME:Europe/Sarajevo CEST
END:DAYLIGHT
BEGIN:DAYLIGHT
DTSTART:20190331T030000
RDATE:20191027T020000
TZOFFSETFROM:+0100
TZOFFSETTO:+0200
TZNAME:Europe/Sarajevo CEST
END:DAYLIGHT
BEGIN:DAYLIGHT
DTSTART:20200329T030000
RDATE:20201025T020000
TZOFFSETFROM:+0100
TZOFFSETTO:+0200
TZNAME:Europe/Sarajevo CEST
END:DAYLIGHT
END:VTIMEZONE
BEGIN:VEVENT
UID:37d90d7c4e8d85588988879f8f33bd54
CATEGORIES:Program
CREATED:20170412T024401
SUMMARY:JEDAN SLUGA, DVA GOSPODARA
LOCATION:Velika scena
DESCRIPTION:<p>Satiričko kazalište Kerempuh, Zagreb, Hrvatska</p><p>“JEDAN SLUGA, DVA G
 OSPODARA”</p><p>Autor: Richard Bean Režija: Vito Taufer</p><p>Zaplet se tem
 elji na nemogućoj misiji, istovremenom služenju dvojici nadređenih, koji ne
  znaju jedan za drugoga, što omogućuje razvoj svih onih slojeva humora koje
  zabuna, laž i prijevara podrazumijevaju. Ovaj tekst svojim britkim i prodo
 rnim humorom ne ostaje na površini, nego kroz glumačke bravure i niz dramat
 ičnih scenskih situacija, portretira korumpirane karaktere i sav lažni mora
 l licemjerne malograđanštine.</p><p>Igraju: Nikša Butijer, Ornela Vištica, 
 Željko Königsknecht, Matija Šakoronja, Mia Anočić-Valentić, Hrvoje Kečkeš, 
 Borko Perić, Anita Matić Delić, Vilim Matula, Damir Poljičak, Ana Maras Har
 mander, Ivan Đuričić, Luka Petrušić, Maja Posavec</p>
CONTACT:Ova adresa el. pošte je zaštićena od spambotova. Omogućite JavaScript da biste je vidjeli.
				document.getElementById('cloak9db6d119785d88140ea8bbf76f31a68f').innerHTML = '';
				var prefix = '&#109;a' + 'i&#108;' + '&#116;o';
				var path = 'hr' + 'ef' + '=';
				var addy9db6d119785d88140ea8bbf76f31a68f = 'm&#97;rk&#101;t&#105;ng' + '&#64;';
				addy9db6d119785d88140ea8bbf76f31a68f = addy9db6d119785d88140ea8bbf76f31a68f + 'npm' + '&#46;' + 'b&#97;';
				var addy_text9db6d119785d88140ea8bbf76f31a68f = 'm&#97;rk&#101;t&#105;ng' + '&#64;' + 'npm' + '&#46;' + 'b&#97;';document.getElementById('cloak9db6d119785d88140ea8bbf76f31a68f').innerHTML += '<a ' + path + '\'' + prefix + ':' + addy9db6d119785d88140ea8bbf76f31a68f + '\'>'+addy_text9db6d119785d88140ea8bbf76f31a68f+'';
		
X-EXTRAINFO:CIJENA POJEDINAČNE ULAZNICE: 10 KM\nCIJENA PAKETA ULAZNICA (SVIH 8 PREDSTAV
 A): 50 KM
X-COLOR:#ff0000
DTSTAMP:20260419T154327Z
DTSTART;TZID=Europe/Sarajevo:20170424T200000
DTEND;TZID=Europe/Sarajevo:20170424T210000
SEQUENCE:0
TRANSP:OPAQUE
END:VEVENT
END:VCALENDAR